BEGIN:VCALENDAR
VERSION:2.0
PRODID:-//Library Market//iCal Export//EN
BEGIN:VEVENT
SUMMARY:Teen Minute To Win It
UID:18142
DTSTAMP:20260422T181700Z
DTSTART:20260318T230000Z
DTEND:20260319T000000Z
LOCATION:Byron Public Library District, 100 S Washington St., Byron, IL 61
 010, United States
ROOM: Meeting Room
DESCRIPTION:Compete against your peers in a series of 60-second challenges
  that will get progressively harder. Will also play the popular Tic-Tac-To
 ast game!Check out the fun video of Byron teens playing Tic-Tac-Toast on I
 nstagram: https://www.instagram.com/p/Co7y9qrJIbQ/
URL:https://www.byronlibrary.org/event/teen-minute-win-it-18142
END:VEVENT
END:VCALENDAR
