BEGIN:VCALENDAR
VERSION:2.0
PRODID:-//Library Market//iCal Export//EN
BEGIN:VEVENT
SUMMARY:Macramé Rainbow for Teens
UID:18143
DTSTAMP:20260422T181700Z
DTSTART:20260310T230000Z
DTEND:20260311T000000Z
LOCATION:Byron Public Library District, 100 S Washington St., Byron, IL 61
 010, United States
ROOM: Teen Department
DESCRIPTION:Make a colorful macramé rainbow out of cording! 
URL:https://www.byronlibrary.org/event/macrame-rainbow-teens-18143
END:VEVENT
END:VCALENDAR
