BEGIN:VCALENDAR
VERSION:2.0
PRODID:-//Library Market//iCal Export//EN
BEGIN:VEVENT
SUMMARY:Bird Houses for Teens
UID:18144
DTSTAMP:20260422T181700Z
DTSTART:20260326T230000Z
DTEND:20260327T000000Z
LOCATION:Byron Public Library District, 100 S Washington St., Byron, IL 61
 010, United States
ROOM: Creative Studio
DESCRIPTION:With spring around the corner, it&#039;s a perfect time to pai
 nt a birdhouse for a cute decoration!
URL:https://www.byronlibrary.org/event/bird-houses-teens-18144
END:VEVENT
END:VCALENDAR
