BEGIN:VCALENDAR
VERSION:2.0
PRODID:-//Library Market//iCal Export//EN
BEGIN:VEVENT
SUMMARY:Beginner Sewing Class
UID:18198
DTSTAMP:20260422T164600Z
DTSTART:20260401T223000Z
DTEND:20260402T003000Z
LOCATION:Byron Public Library District, 100 S Washington St., Byron, IL 61
 010, United States
ROOM: Creative Studio
DESCRIPTION:
URL:https://www.byronlibrary.org/event/beginner-sewing-class-18198
END:VEVENT
END:VCALENDAR
