BEGIN:VCALENDAR
VERSION:2.0
PRODID:-//Library Market//iCal Export//EN
BEGIN:VEVENT
SUMMARY:Cuppa Tea &amp; Poetry
UID:18199
DTSTAMP:20260422T132200Z
DTSTART:20260422T230000Z
DTEND:20260423T000000Z
LOCATION:Byron Public Library District, 100 S Washington St., Byron, IL 61
 010, United States
ROOM: Classroom 1
DESCRIPTION:Celebrate National Poetry Month with a playful, low-pressure p
 oetry program that&#039;s all about creativity and fun. Participants will 
 be given a set of words and challenged to mix, match, and rearrange them i
 nto their own original poem - no poetry experience required. We&#039;ll si
 p a cozy cuppa tea while we write, share laughs, and see where the words t
 ake us. And the fun doesn&#039;t end when the program does: everyone goes 
 home with their very own magnetic word kit to keep the poetry flowing long
  after. Even if you think you don&#039;t like poetry, this program is desi
 gned to surprise you - it&#039;s creative, relaxed and guaranteed a good t
 ime. 
URL:https://www.byronlibrary.org/event/cuppa-tea-poetry-18199
END:VEVENT
END:VCALENDAR
