BEGIN:VCALENDAR
VERSION:2.0
PRODID:-//Library Market//iCal Export//EN
BEGIN:VEVENT
SUMMARY:Wednesday Night Readers
UID:18219
DTSTAMP:20260422T164600Z
DTSTART:20260415T233000Z
DTEND:20260416T003000Z
LOCATION:Byron Public Library District, 100 S Washington St., Byron, IL 61
 010, United States
ROOM: Classroom 1
DESCRIPTION:Sam Hill always saw the world through different eyes. Born wit
 h red pupils, he was called &quot;Devil Boy&quot; or Sam &quot;Hell&quot; 
 by his classmates; &quot;God&#039;s will&quot; is what his mother called h
 is ocular albinism. Her words were of little comfort, but Sam persevered, 
 buoyed by his mother&#039;s devout faith, his father&#039;s practical wisd
 om, and his two other misfit friends. Sam believed it was God who sent Er
 nie Cantwell, the only African American kid in his class, to be the friend
  he so desperately needed. And that it was God&#039;s idea for Mickie Kenn
 edy to storm into Our Lady of Mercy like a tornado, uprooting every rule S
 am had been taught about boys and girls. Forty years later, Sam, a small-
 town eye doctor, is no longer certain anything was by design - especially 
 not the tragedy that caused him to turn his back on his friends, his homet
 own, and the life he&#039;d always known. Running from the pain, eyes clos
 ed, served little purpose. Now, as he looks back on his life, Sam embarks 
 on a journey that will take him halfway around the world. This time, his e
 yes are wide open - bringing into clear view what changed him, defined him
 , and made him so afraid, until he can finally see what truly matters. 
URL:https://www.byronlibrary.org/event/wednesday-night-readers-18219
END:VEVENT
END:VCALENDAR
