BEGIN:VCALENDAR
VERSION:2.0
PRODID:-//Library Market//iCal Export//EN
BEGIN:VEVENT
SUMMARY:Click with Caution: Avoiding Online Scams
UID:18701
DTSTAMP:20260422T151900Z
DTSTART:20260430T233000Z
DTEND:20260501T003000Z
LOCATION:Byron Public Library District, 100 S Washington St., Byron, IL 61
 010, United States
ROOM: Meeting Room
DESCRIPTION:Did you know that nearly 64% of Americans have been affected b
 y cybercrime - and that a cyberattack happens about every 39 seconds? That
  means by the time you finish reading this sentence, someone, somewhere, h
 as already been targeted. Join cybersecurity expert Jeff Williams for an e
 ye-opening lecture where you&#039;ll discover:How scammers trick people us
 ing urgency and fear.The red flags of phishing emails and fake websites.Si
 mple habits that dramatically reduce your risk.Practical steps to protect 
 your identity, finances, and personal data.Don&#039;t wait until you becom
 e part of the statistic. Learn how to outsmart scammers before they target
  you. 
URL:https://www.byronlibrary.org/event/click-caution-avoiding-online-scams
 -18701
END:VEVENT
END:VCALENDAR
