BEGIN:VCALENDAR
VERSION:2.0
PRODID:-//Library Market//iCal Export//EN
BEGIN:VEVENT
SUMMARY:Create &amp; Play @ the Park
UID:188
DTSTAMP:20260423T113400Z
DTSTART:20240617T143000Z
DTEND:20240617T151500Z
LOCATION:Blackhawk Meadow Park, 2920 E. Mill Rd, Byron, IL 61010, United S
 tates
ROOM: Blackhawk Meadow Park
DESCRIPTION:
URL:https://www.byronlibrary.org/event/create-play-park-188
END:VEVENT
END:VCALENDAR
