BEGIN:VCALENDAR
VERSION:2.0
PRODID:-//Library Market//iCal Export//EN
BEGIN:VEVENT
SUMMARY:Volunteens- Assemble Grogu Kits
UID:19382
DTSTAMP:20260422T164600Z
DTSTART:20260413T230000Z
DTEND:20260414T000000Z
LOCATION:Byron Public Library District, 100 S Washington St., Byron, IL 61
 010, United States
ROOM: Teen Department
DESCRIPTION:Earn volunteer credit by helping assemble Grogu (Baby Yoda) ki
 ts that will be for a program on Star Wars Day in May (5/4). If you attend
 , you are guaranteed a kit! 
URL:https://www.byronlibrary.org/event/volunteens-assemble-kits-19382
END:VEVENT
END:VCALENDAR
