BEGIN:VCALENDAR
VERSION:2.0
PRODID:-//Library Market//iCal Export//EN
BEGIN:VEVENT
SUMMARY:Escape Room for Teens
UID:19384
DTSTAMP:20260422T164600Z
DTSTART:20260406T200000Z
DTEND:20260406T210000Z
LOCATION:Byron Public Library District, 100 S Washington St., Byron, IL 61
 010, United States
ROOM: Boardroom
DESCRIPTION:On your day off from school, can you figure out the clues and 
 escape before the zombie virus contaminates you and your group? Sign up f
 or one of the two programs, they are both the same. 
URL:https://www.byronlibrary.org/event/escape-room-teens-19384
END:VEVENT
END:VCALENDAR
