BEGIN:VCALENDAR
VERSION:2.0
PRODID:-//Library Market//iCal Export//EN
BEGIN:VEVENT
SUMMARY:Global Treats for Teens
UID:19386
DTSTAMP:20260422T151800Z
DTSTART:20260428T230000Z
DTEND:20260429T000000Z
LOCATION:Byron Public Library District, 100 S Washington St., Byron, IL 61
 010, United States
ROOM: Teen Department
DESCRIPTION:Let&#039;s explore treats from around the world! We ordered se
 veral boxes of treats from Snackcrate, which assembled candy and snacks fr
 om different countries and regions, so we will experiment with tasting oth
 er foods. It&#039;s a surprise as to what snacks to expect!*Food may conta
 in nuts, milk, and other allergens, so please be aware of this if you have
  food allergies*
URL:https://www.byronlibrary.org/event/global-treats-teens-19386
END:VEVENT
END:VCALENDAR
