BEGIN:VCALENDAR
VERSION:2.0
PRODID:-//Library Market//iCal Export//EN
BEGIN:VEVENT
SUMMARY:Cupcake Wars for Teens
UID:19387
DTSTAMP:20260422T151000Z
DTSTART:20260423T230000Z
DTEND:20260424T003000Z
LOCATION:Byron Public Library District, 100 S Washington St., Byron, IL 61
 010, United States
ROOM: Creative Studio
DESCRIPTION:Decorate pre-made cupcakes in two categories and then the staf
 f will choose the winners! Gift card prizes for the winners. 
URL:https://www.byronlibrary.org/event/cupcake-wars-teens-19387
END:VEVENT
END:VCALENDAR
