BEGIN:VCALENDAR
VERSION:2.0
PRODID:-//Library Market//iCal Export//EN
BEGIN:VEVENT
SUMMARY:Pop Tart Taste Test-Wednesday
UID:19402
DTSTAMP:20260422T181700Z
DTSTART:20260415T204500Z
DTEND:20260415T213000Z
LOCATION:Byron Public Library District, 100 S Washington St., Byron, IL 61
 010, United States
ROOM: Activity Room
DESCRIPTION:For K-5th: Taste pop tarts &amp; guess the flavor! Vote for yo
 ur favorites.Note: Grade schoolers attend after school programs without an
  adult. If you child needs extra support, please contact Julie.
URL:https://www.byronlibrary.org/event/pop-tart-taste-test-wednesday-19402
END:VEVENT
END:VCALENDAR
