BEGIN:VCALENDAR
VERSION:2.0
PRODID:-//Library Market//iCal Export//EN
BEGIN:VEVENT
SUMMARY:Lovely Ladybug Kit
UID:19404
DTSTAMP:20260422T164600Z
DTSTART:20260417T140000Z
DTEND:20260417T220000Z
LOCATION:Byron Public Library District, 100 S Washington St., Byron, IL 61
 010, United States
ROOM: Lovely Ladybug Kit
DESCRIPTION:For ages 2 years-preschool. Create a cardboard ladybug with mo
 vable wings! Pick up begins on Friday, April 17.
URL:https://www.byronlibrary.org/event/lovely-ladybug-kit-19404
END:VEVENT
END:VCALENDAR
