BEGIN:VCALENDAR
VERSION:2.0
PRODID:-//Library Market//iCal Export//EN
BEGIN:VEVENT
SUMMARY:Wheel of Fortune
UID:19438
DTSTAMP:20260422T164600Z
DTSTART:20260529T150000Z
DTEND:20260529T160000Z
LOCATION:Byron Public Library District, 100 S Washington St., Byron, IL 61
 010, United States
ROOM: Meeting Room
DESCRIPTION:It&#039;s time to spin the wheel! Join us for an enjoyable mor
 ning playing Wheel of Fortune. Coffee will be on! 
URL:https://www.byronlibrary.org/event/wheel-fortune-19438
END:VEVENT
END:VCALENDAR
