BEGIN:VCALENDAR
VERSION:2.0
PRODID:-//Library Market//iCal Export//EN
BEGIN:VEVENT
SUMMARY:Summer Beach Loom Wreath
UID:19464
DTSTAMP:20260422T164600Z
DTSTART:20260511T230000Z
DTEND:20260512T003000Z
LOCATION:Byron Public Library District, 100 S Washington St., Byron, IL 61
 010, United States
ROOM: Creative Studio
DESCRIPTION:Join us in the studio to create this coastal decoration create
 d by weaving yarn across an embroidery hoop to form a textured, seaside sc
 ene. 
URL:https://www.byronlibrary.org/event/summer-beach-loom-wreath-19464
END:VEVENT
END:VCALENDAR
