BEGIN:VCALENDAR
VERSION:2.0
PRODID:-//Library Market//iCal Export//EN
BEGIN:VEVENT
SUMMARY:Comics Giveaway Day
UID:19910
DTSTAMP:20260422T151000Z
DTSTART:20260502T140000Z
DTEND:20260502T170000Z
LOCATION:Byron Public Library District, 100 S Washington St., Byron, IL 61
 010, United States
ROOM: Lobby
DESCRIPTION:Stop by the library anytime between 9:00 am- 12:00 pm (noon) a
 nd pick up your free comic books! We have comics for ALL ages. Come early
  to guarantee the best selection. It will be in the downstairs lobby by th
 e fireplace. No registration is needed- just show up! 
URL:https://www.byronlibrary.org/event/comics-giveaway-day-19910
END:VEVENT
END:VCALENDAR
