BEGIN:VCALENDAR
VERSION:2.0
PRODID:-//Library Market//iCal Export//EN
BEGIN:VEVENT
SUMMARY:Volunteens- Letters to America
UID:19931
DTSTAMP:20260422T164600Z
DTSTART:20260511T230000Z
DTEND:20260512T000000Z
LOCATION:Byron Public Library District, 100 S Washington St., Byron, IL 61
 010, United States
ROOM: Teen Department
DESCRIPTION:In honor of America 250, we will be writing Letters to America
  in which we create content about the past, present and future of our coun
 try! This will be the last Volunteens for the school year. It will start 
 up again in September! 
URL:https://www.byronlibrary.org/event/volunteens-letters-america-19931
END:VEVENT
END:VCALENDAR
