BEGIN:VCALENDAR
VERSION:2.0
PRODID:-//Library Market//iCal Export//EN
BEGIN:VEVENT
SUMMARY:Baby &amp; Me: Craft &amp; Play
UID:20015
DTSTAMP:20260422T164600Z
DTSTART:20260512T163000Z
DTEND:20260512T171500Z
LOCATION:Byron Public Library District, 100 S Washington St., Byron, IL 61
 010, United States
ROOM: Activity Room
DESCRIPTION:For birth-15 months, with a caregiver. Enjoy playtime with you
 r baby and make a keepsake craft.
URL:https://www.byronlibrary.org/event/baby-me-craft-play-20015
END:VEVENT
END:VCALENDAR
