BEGIN:VCALENDAR
VERSION:2.0
PRODID:-//Library Market//iCal Export//EN
BEGIN:VEVENT
SUMMARY:Outdoor Fun Day @ the Heritage Farm
UID:20016
DTSTAMP:20260422T164600Z
DTSTART:20260513T150000Z
DTEND:20260513T161500Z
LOCATION:Heritage Farm Museum, 8059 N. River Road, Byron, IL 61010, United
  States
ROOM: Byron Forest Preserve: Heritage Farm
DESCRIPTION:Join Miss Julie from the Byron Public Library and Miss Crystal
  from the Byron Forest Preserve Preschool for outdoor fun at the Heritage 
 Farm! Bubbles, water play, art and more!Homeschool families: Older sibling
 s are welcome!Rain date: Thursday, May 14.
URL:https://www.byronlibrary.org/event/outdoor-fun-day-heritage-farm-20016
END:VEVENT
END:VCALENDAR
