BEGIN:VCALENDAR
VERSION:2.0
PRODID:-//Library Market//iCal Export//EN
BEGIN:VEVENT
SUMMARY:K-Pop Demon Hunters Craft Kit
UID:20017
DTSTAMP:20260422T164600Z
DTSTART:20260508T140000Z
DTEND:20260508T220000Z
LOCATION:Byron Public Library District, 100 S Washington St., Byron, IL 61
 010, United States
ROOM: K-Pop Demon Hunters Craft Kit
DESCRIPTION:For grade schoolers that did not attend our in-person K-Pop De
 mon Hunters program. Did you miss our K-Pop Demon Hunters event in Februa
 ry? You can craft at home to make: Derpy Tiger, fan cards, and a golden br
 acelet.
URL:https://www.byronlibrary.org/event/k-pop-demon-hunters-craft-kit-20017
END:VEVENT
END:VCALENDAR
