BEGIN:VCALENDAR
VERSION:2.0
PRODID:-//Library Market//iCal Export//EN
BEGIN:VEVENT
SUMMARY:Ice Cream Taste Test-Wednesday
UID:20021
DTSTAMP:20260422T164600Z
DTSTART:20260610T160000Z
DTEND:20260610T164500Z
LOCATION:Byron Public Library District, 100 S Washington St., Byron, IL 61
 010, United States
ROOM: Meeting Room
DESCRIPTION:For youth entering grades 1-5 in the fall 2026. Taste differen
 t flavors of ice cream and vote for your favorite!Youth attend without a c
 aregiver. If your child needs extra support, please contact Julie. 
URL:https://www.byronlibrary.org/event/ice-cream-taste-test-wednesday-2002
 1
END:VEVENT
END:VCALENDAR
