BEGIN:VCALENDAR
VERSION:2.0
PRODID:-//Library Market//iCal Export//EN
BEGIN:VEVENT
SUMMARY:Grade School Art Studio-Wednesday
UID:20023
DTSTAMP:20260422T164600Z
DTSTART:20260617T160000Z
DTEND:20260617T170000Z
LOCATION:Byron Public Library District, 100 S Washington St., Byron, IL 61
 010, United States
ROOM: Activity Room
DESCRIPTION:For youth entering grades 1-5 in the fall 2026. Create using p
 aint, wood, spools, beads, and wire. Youth attend without a caregiver. If
  your child needs extra support, please contact Julie. 
URL:https://www.byronlibrary.org/event/grade-school-art-studio-wednesday-2
 0023
END:VEVENT
END:VCALENDAR
