BEGIN:VCALENDAR
VERSION:2.0
PRODID:-//Library Market//iCal Export//EN
BEGIN:VEVENT
SUMMARY:Homemade Bouncy Ball-Wednesday
UID:20025
DTSTAMP:20260422T164600Z
DTSTART:20260624T160000Z
DTEND:20260624T164500Z
LOCATION:Byron Public Library District, 100 S Washington St., Byron, IL 61
 010, United States
ROOM: Activity Room
DESCRIPTION:For youth entering grades 1-5 in the fall 2026. Make a homemad
 e bouncy ball and complete challenges using your ball.Youth attend without
  a caregiver. If your child needs extra support, please contact Julie. 
URL:https://www.byronlibrary.org/event/homemade-bouncy-ball-wednesday-2002
 5
END:VEVENT
END:VCALENDAR
