BEGIN:VCALENDAR
VERSION:2.0
PRODID:-//Library Market//iCal Export//EN
BEGIN:VEVENT
SUMMARY:Playdough Playdate Storytime-Thursday
UID:20028
DTSTAMP:20260422T164600Z
DTSTART:20260604T143000Z
DTEND:20260604T153000Z
LOCATION:Byron Public Library District, 100 S Washington St., Byron, IL 61
 010, United States
ROOM: Activity Room
DESCRIPTION:Enjoy stories, songs, rhymes, playdough and playtime with toys
 ! Please note:Your child must be age 3 by the start date of this class to
  attend. This class is for children ages 3-entering K in fall 2026.Childr
 en attend without a caregiver but if your child is new to independent clas
 ses and might need extra support, please contact Julie prior to class.Pres
 chool storytime requires a weekly registration during the summer months.
URL:https://www.byronlibrary.org/event/playdough-playdate-storytime-thursd
 ay-20028
END:VEVENT
END:VCALENDAR
