BEGIN:VCALENDAR
VERSION:2.0
PRODID:-//Library Market//iCal Export//EN
BEGIN:VEVENT
SUMMARY:Science Explorers Storytime-Wednesday
UID:20029
DTSTAMP:20260422T164600Z
DTSTART:20260610T143000Z
DTEND:20260610T153000Z
LOCATION:Byron Public Library District, 100 S Washington St., Byron, IL 61
 010, United States
ROOM: Activity Room
DESCRIPTION:Enjoy stories, songs, rhymes, science explorations with water,
  and playtime with toys! Please note:Your child must be age 3 by the star
 t date of this class to attend. This class is for children ages 3-enterin
 g K in fall 2026.Children attend without a caregiver but if your child is 
 new to independent classes and might need extra support, please contact Ju
 lie prior to class.Preschool storytime requires a weekly registration duri
 ng the summer months.
URL:https://www.byronlibrary.org/event/science-explorers-storytime-wednesd
 ay-20029
END:VEVENT
END:VCALENDAR
