BEGIN:VCALENDAR
VERSION:2.0
PRODID:-//Library Market//iCal Export//EN
BEGIN:VEVENT
SUMMARY:Preschool Art Studio Storytime-Wednesday
UID:20031
DTSTAMP:20260422T164600Z
DTSTART:20260617T143000Z
DTEND:20260617T153000Z
LOCATION:Byron Public Library District, 100 S Washington St., Byron, IL 61
 010, United States
ROOM: Activity Room
DESCRIPTION:Enjoy stories, songs, rhymes, an art project, and playtime wit
 h toys! Please note:Your child must be age 3 by the start date of this cl
 ass to attend. This class is for children ages 3-entering K in fall 2026.
 Children attend without a caregiver but if your child is new to independen
 t classes and might need extra support, please contact Julie prior to clas
 s.Preschool storytime requires a weekly registration during the summer mon
 ths.
URL:https://www.byronlibrary.org/event/preschool-art-studio-storytime-wedn
 esday-20031
END:VEVENT
END:VCALENDAR
