BEGIN:VCALENDAR
VERSION:2.0
PRODID:-//Library Market//iCal Export//EN
BEGIN:VEVENT
SUMMARY:Sandtastic Storytime-Thursday
UID:20034
DTSTAMP:20260422T164600Z
DTSTART:20260625T143000Z
DTEND:20260625T153000Z
LOCATION:Byron Public Library District, 100 S Washington St., Byron, IL 61
 010, United States
ROOM: Activity Room
DESCRIPTION:Stories, songs, rhymes, kinetic sand, and playtime with toys!Â
  Please note:Your child must be age 3 by the start date of this class to a
 ttend.Â This class is for children ages 3-entering K in fall 2026.Children
  attend without a caregiver but if your child is new to independent classe
 s and might need extra support, please contact Julie prior to class.Presch
 ool storytime requires a weekly registration during the summer months.
URL:https://www.byronlibrary.org/event/sandtastic-storytime-thursday-20034
END:VEVENT
END:VCALENDAR
