BEGIN:VCALENDAR
VERSION:2.0
PRODID:-//Library Market//iCal Export//EN
BEGIN:VEVENT
SUMMARY:July 4th Wand &amp; Hat Kit
UID:20040
DTSTAMP:20260422T164600Z
DTSTART:20260612T140000Z
DTEND:20260612T220000Z
LOCATION:Byron Public Library District, 100 S Washington St., Byron, IL 61
 010, United States
ROOM: July 4th Wand &amp; Hat Kit
DESCRIPTION:Create a patriotic hat and a wand for July 4th.This take-home 
 kit is for ages 3 years-entering K (in fall 2026). Pick up begins on Frida
 y, June 12. We can hold the kit if you are unable to pick it up that day.Â
  
URL:https://www.byronlibrary.org/event/july-4th-wand-and-hat-kit-20040
END:VEVENT
END:VCALENDAR
