BEGIN:VCALENDAR
VERSION:2.0
PRODID:-//Library Market//iCal Export//EN
BEGIN:VEVENT
SUMMARY:Toddler Clay Sculpture Kit
UID:20041
DTSTAMP:20260422T164600Z
DTSTART:20260612T140000Z
DTEND:20260612T220000Z
LOCATION:Byron Public Library District, 100 S Washington St., Byron, IL 61
 010, United States
ROOM: Toddler Clay Sculpture Kit
DESCRIPTION:For ages 18-35 months. Create a sculpture with clay and other 
 materials. Pick up begins on Friday, June 12. We can hold the kit if you 
 are unable to pick it up that day. 
URL:https://www.byronlibrary.org/event/toddler-clay-sculpture-kit-20041
END:VEVENT
END:VCALENDAR
