BEGIN:VCALENDAR
VERSION:2.0
PRODID:-//Library Market//iCal Export//EN
BEGIN:VEVENT
SUMMARY:Grab &amp; Go Kit for Teens
UID:20091
DTSTAMP:20260422T164600Z
DTSTART:20260514T050000Z
DTEND:20260514T050000Z
LOCATION:Byron Public Library District, 100 S Washington St., Byron, IL 61
 010, United States
ROOM: Grab &amp; Go Kit for Teens
DESCRIPTION:Teens can drop in and pick up a Cloud Dough kit to take home a
 nd make. Perfect for relieving stress during finals! No registration is ne
 cessary. 
URL:https://www.byronlibrary.org/event/grab-go-kit-teens-20091
END:VEVENT
END:VCALENDAR
