BEGIN:VCALENDAR
VERSION:2.0
PRODID:-//Library Market//iCal Export//EN
BEGIN:VEVENT
SUMMARY:Family Fun: Air Toobz Play
UID:20115
DTSTAMP:20260422T164600Z
DTSTART:20260614T201500Z
DTEND:20260614T210000Z
LOCATION:Byron Public Library District, 100 S Washington St., Byron, IL 61
 010, United States
ROOM: Activity Room &amp; Meeting Room
DESCRIPTION: Join us for Air Toobz play!. Connect tubes, drop in balls, a
 nd watch them fly! Repeat for endless fun for the entire family.Registrati
 on Notes: One adult should register. You are supervising during this event
 . You may invite friends; bring as many children as you think will enjoy t
 he Air Toobz play. 
URL:https://www.byronlibrary.org/event/family-fun-air-toobz-play-20115
END:VEVENT
END:VCALENDAR
