BEGIN:VCALENDAR
VERSION:2.0
PRODID:-//Library Market//iCal Export//EN
BEGIN:VEVENT
SUMMARY:Cricut Demonstration - Summer Tumbler
UID:2130
DTSTAMP:20260423T115100Z
DTSTART:20240805T230000Z
DTEND:20240806T003000Z
LOCATION:Byron Public Library District, 100 S Washington St., Byron, IL 61
 010, United States
ROOM: Creative Studio &amp; Classroom 2
DESCRIPTION:Join Cathy for another cricut demonstration class. We will be 
 designing your very own summertime tumbler. 
URL:https://www.byronlibrary.org/event/cricut-demonstration-summer-tumbler
 -2130
END:VEVENT
END:VCALENDAR
