BEGIN:VCALENDAR
VERSION:2.0
PRODID:-//Library Market//iCal Export//EN
BEGIN:VEVENT
SUMMARY:Moss Wall Art
UID:2131
DTSTAMP:20260423T113300Z
DTSTART:20240711T230000Z
DTEND:20240712T003000Z
LOCATION:Byron Public Library District, 100 S Washington St., Byron, IL 61
 010, United States
ROOM: Creative Studio &amp; Classroom 2
DESCRIPTION:Bring a touch of the outdoors inside by creating moss wall art
  using preserved moss and other natural elements. 
URL:https://www.byronlibrary.org/event/moss-wall-art-2131
END:VEVENT
END:VCALENDAR
