BEGIN:VCALENDAR
VERSION:2.0
PRODID:-//Library Market//iCal Export//EN
BEGIN:VEVENT
SUMMARY:Sewing - Tea Bag Wallet
UID:2133
DTSTAMP:20260423T115200Z
DTSTART:20240731T223000Z
DTEND:20240801T000000Z
LOCATION:Byron Public Library District, 100 S Washington St., Byron, IL 61
 010, United States
ROOM: Creative Studio
DESCRIPTION:Our sewing project for July is a Tea Bag Wallet. Regardless of
  experience, enrollment in this class requires successful completion of th
 e Beginner Sewing Class at Byron Public Library. 
URL:https://www.byronlibrary.org/event/sewing-tea-bag-wallet-2133
END:VEVENT
END:VCALENDAR
