BEGIN:VCALENDAR
VERSION:2.0
PRODID:-//Library Market//iCal Export//EN
BEGIN:VEVENT
SUMMARY:Wednesday Night Readers
UID:2134
DTSTAMP:20260423T113400Z
DTSTART:20240717T233000Z
DTEND:20240718T003000Z
LOCATION:Byron Public Library District, 100 S Washington St., Byron, IL 61
 010, United States
ROOM: Classroom 1
DESCRIPTION:Inspired by true events that rocked the nation, a searing and 
 compassionate new novel about a Black nurse in post-segregation Alabama wh
 o blows the whistle on a terrible injustice done to her patients, from the
  New York Times bestselling author of Wench. 
URL:https://www.byronlibrary.org/event/wednesday-night-readers-2134
END:VEVENT
END:VCALENDAR
