BEGIN:VCALENDAR
VERSION:2.0
PRODID:-//Library Market//iCal Export//EN
BEGIN:VEVENT
SUMMARY:&quot;Shh! We Have a Plan&quot; StoryWalk®-Jarrett Prairie Center
UID:2169
DTSTAMP:20260423T115100Z
DTSTART:20240531T050000Z
DTEND:20240627T050000Z
LOCATION:Byron Forest Preserve Jarrett Prairie Center, 7993 North River Ro
 ad, Byron, IL 61010, United States
ROOM: Byron Forest Preserve: Indigo Trail StoryWalk
DESCRIPTION:Current book: &quot;Shh! We Have a Plan&quot; by Chris Haughto
 n. Four friends creep through the woods, and what do they spot? An exquisi
 te bird high in a tree! &#039;Hello birdie, &#039; waves one. &#039;Shh! W
 e have a plan, &#039; hush the others. They stealthily make their advance,
  nets in the air. Ready one, ready two, ready three, and go! But as one co
 mically foiled plan follows another, it soon becomes clear that their quie
 t, observant companion, hand outstretched, has a far better idea. 
URL:https://www.byronlibrary.org/event/shh-we-have-plan-storywalkr-jarrett
 -prairie-center-2169
END:VEVENT
END:VCALENDAR
