BEGIN:VCALENDAR
VERSION:2.0
PRODID:-//Library Market//iCal Export//EN
BEGIN:VEVENT
SUMMARY:Beginners Sewing Machine Workshop for Teens
UID:2199
DTSTAMP:20260423T113200Z
DTSTART:20240729T170000Z
DTEND:20240729T190000Z
LOCATION:Byron Public Library District, 100 S Washington St., Byron, IL 61
 010, United States
ROOM: Classroom 2
DESCRIPTION:Learn the basics of using a sewing machine. Machines and mater
 ials will be provided and you will go home with a finished project! This b
 eginner class will be a prerequisite in future advanced sewing classes. A
 fterward, stay for Teen Time from 2-4 pm!
URL:https://www.byronlibrary.org/event/beginners-sewing-machine-workshop-t
 eens-2199
END:VEVENT
END:VCALENDAR
