BEGIN:VCALENDAR
VERSION:2.0
PRODID:-//Library Market//iCal Export//EN
BEGIN:VEVENT
SUMMARY:Teen Movie &amp; Pizza
UID:2200
DTSTAMP:20260423T113400Z
DTSTART:20240718T170000Z
DTEND:20240718T190000Z
LOCATION:Byron Public Library District, 100 S Washington St., Byron, IL 61
 010, United States
ROOM: Teen Department
DESCRIPTION:Watch the 2023 horror movie based on a popular video game, in 
 which a night-time employee tries to survive a night at Freddy Fazbear&#03
 9;s Pizza Restaurant.  Pizza will be served.Five Nights at Freddy&#039;s-
  Rated PG-13, Runtime 1:50After the movie stay for Teen Time from 2-4 pm!
URL:https://www.byronlibrary.org/event/pizza-and-2200
END:VEVENT
END:VCALENDAR
