BEGIN:VCALENDAR
VERSION:2.0
PRODID:-//Library Market//iCal Export//EN
BEGIN:VEVENT
SUMMARY:Teen Dungeons &amp; Dragons
UID:2210
DTSTAMP:20260423T115100Z
DTSTART:20240807T190000Z
DTEND:20240807T210000Z
LOCATION:Byron Public Library District, 100 S Washington St., Byron, IL 61
 010, United States
ROOM: Classroom 2
DESCRIPTION:Join our weekly D&amp;D group, which is open to new and experi
 enced players! The two Dungeon Masters alternate weeks, so it would be bes
 t to pick one D&amp;D campaign and come every other week, so you stay with
  one DM and epic journey! Jacob: 7/10, 7/17, 7/31Adam: 7/24, 8/7
URL:https://www.byronlibrary.org/event/teen-dungeons-dragons-2210
END:VEVENT
END:VCALENDAR
