BEGIN:VCALENDAR
VERSION:2.0
PRODID:-//Library Market//iCal Export//EN
BEGIN:VEVENT
SUMMARY:Teen Escape Room
UID:2211
DTSTAMP:20260423T115200Z
DTSTART:20240708T180000Z
DTEND:20240708T190000Z
LOCATION:Byron Public Library District, 100 S Washington St., Byron, IL 61
 010, United States
ROOM: Boardroom
DESCRIPTION:Can you escape in time? Join us for a radically fun time trave
 l adventure. You will have 50 minutes to find your way back to the future.
  The clock is ticking. You will need to work as a team, decipher the clues
 , and have fun! (This is one of two time slots- you only pick one to atten
 d- as they are both the same)Afterward, stay for Teen Time from 2-4 pm! 
URL:https://www.byronlibrary.org/event/teen-escape-room-2211
END:VEVENT
END:VCALENDAR
