BEGIN:VCALENDAR
VERSION:2.0
PRODID:-//Library Market//iCal Export//EN
BEGIN:VEVENT
SUMMARY:Teen Escape Room
UID:2212
DTSTAMP:20260423T115100Z
DTSTART:20240708T210000Z
DTEND:20240708T220000Z
LOCATION:Byron Public Library District, 100 S Washington St., Byron, IL 61
 010, United States
ROOM: Boardroom
DESCRIPTION:Can you escape in time? Join us for a radically fun time trave
 l adventure. You will have 50 minutes to find your way back to the future.
  The clock is ticking. You will need to work as a team, decipher the clues
 , and have fun! (This is one of two time slots- you only pick one to atten
 d- as they are both the same)Attend Teen Time from 2-4 pm, and join the Es
 cape Room afterward! 
URL:https://www.byronlibrary.org/event/teen-escape-room-2212
END:VEVENT
END:VCALENDAR
