BEGIN:VCALENDAR
VERSION:2.0
PRODID:-//Library Market//iCal Export//EN
BEGIN:VEVENT
SUMMARY:Craft &amp; Play @ the Library
UID:2221
DTSTAMP:20260423T113100Z
DTSTART:20240715T143000Z
DTEND:20240715T151500Z
LOCATION:Byron Public Library District, 100 S Washington St., Byron, IL 61
 010, United States
ROOM: Meeting Room
DESCRIPTION:Since the weather looks hot and humid, we are moving Create &a
 mp; Play at the Park into the library. Come join us for crafts and play st
 ations in the youth department. Create art with oil pastel and liquid wate
 r colors, build with LEGO, complete a new search &amp; find, build with gi
 ant blocks and more! Beat the heat and have some fun! 
URL:https://www.byronlibrary.org/event/create-play-park-2221
END:VEVENT
END:VCALENDAR
