BEGIN:VCALENDAR
VERSION:2.0
PRODID:-//Library Market//iCal Export//EN
BEGIN:VEVENT
SUMMARY:Grade School Art Studio-Thursday
UID:2224
DTSTAMP:20260423T113400Z
DTSTART:20240725T160000Z
DTEND:20240725T170000Z
LOCATION:Byron Public Library District, 100 S Washington St., Byron, IL 61
 010, United States
ROOM: Activity Room
DESCRIPTION:Paint and decorate a desk organizer. This program is for youth
  entering 1st-6th grade in the fall of 2024.
URL:https://www.byronlibrary.org/event/grade-school-art-studio-2224
END:VEVENT
END:VCALENDAR
