BEGIN:VCALENDAR
VERSION:2.0
PRODID:-//Library Market//iCal Export//EN
BEGIN:VEVENT
SUMMARY:Slime Time-Wednesday
UID:2225
DTSTAMP:20260423T113500Z
DTSTART:20240710T160000Z
DTEND:20240710T170000Z
LOCATION:Byron Public Library District, 100 S Washington St., Byron, IL 61
 010, United States
ROOM: Activity Room
DESCRIPTION:Make slime! This program is for youth entering 1st-6th grade i
 n the Fall of 2024. Youth entering 1st grade need an adult or teen helper 
 to attend with them. (An adult or teen can help 2-3 children if you have m
 ultiple children or want to partner with a friend.)
URL:https://www.byronlibrary.org/event/slime-time-2225
END:VEVENT
END:VCALENDAR
