BEGIN:VCALENDAR
VERSION:2.0
PRODID:-//Library Market//iCal Export//EN
BEGIN:VEVENT
SUMMARY:Slime Time-Thursday
UID:2226
DTSTAMP:20260423T113400Z
DTSTART:20240711T160000Z
DTEND:20240711T170000Z
LOCATION:Byron Public Library District, 100 S Washington St., Byron, IL 61
 010, United States
ROOM: Activity Room
DESCRIPTION:Make slime! This program is for youth entering 1st-6th grade i
 n the Fall of 2024. 
URL:https://www.byronlibrary.org/event/slime-time-2226
END:VEVENT
END:VCALENDAR
