BEGIN:VCALENDAR
VERSION:2.0
PRODID:-//Library Market//iCal Export//EN
BEGIN:VEVENT
SUMMARY:Summer Challenge
UID:2266
DTSTAMP:20260423T113500Z
DTSTART:20240531T050000Z
DTEND:20240731T050000Z
LOCATION:Byron Public Library District, 100 S Washington St., Byron, IL 61
 010, United States
ROOM: Summer Challenge
DESCRIPTION:Join our summer challenge! We have a program for all ages: Bab
 y-Adult. Register at byron.beanstack.org or on the Beanstack app. Need hel
 p? Ask at the customer service desk on either floor.
URL:https://www.byronlibrary.org/event/summer-challenge-2266
END:VEVENT
END:VCALENDAR
