BEGIN:VCALENDAR
VERSION:2.0
PRODID:-//Library Market//iCal Export//EN
BEGIN:VEVENT
SUMMARY:Squishy Circuits-Thursday
UID:2342
DTSTAMP:20260423T113200Z
DTSTART:20240718T160000Z
DTEND:20240718T170000Z
LOCATION:Byron Public Library District, 100 S Washington St., Byron, IL 61
 010, United States
ROOM: Activity Room
DESCRIPTION:Make conductive and insulating dough and then create electroni
 c circuits. This program is for youth entering 1st-6th grade in the Fall o
 f 2024. 
URL:https://www.byronlibrary.org/event/squishy-circuits-thursday-2342
END:VEVENT
END:VCALENDAR
