BEGIN:VCALENDAR
VERSION:2.0
PRODID:-//Library Market//iCal Export//EN
BEGIN:VEVENT
SUMMARY:Sticker Stories Kit
UID:2343
DTSTAMP:20260423T113200Z
DTSTART:20240701T140000Z
DTEND:20240702T010000Z
LOCATION:Byron Public Library District, 100 S Washington St., Byron, IL 61
 010, United States
ROOM: Sticker Stories Kit
DESCRIPTION:Doodle, draw, design &amp; stick! Use stickers and art materia
 ls to create in a mini notebook. This kit is for youth entering 1st-6th gr
 ade in the fall of 2024.
URL:https://www.byronlibrary.org/event/sticker-stories-kit-2343
END:VEVENT
END:VCALENDAR
