BEGIN:VCALENDAR
VERSION:2.0
PRODID:-//Library Market//iCal Export//EN
BEGIN:VEVENT
SUMMARY:Build Some Bugs Kit
UID:2344
DTSTAMP:20260423T113300Z
DTSTART:20240701T140000Z
DTEND:20240702T010000Z
LOCATION:Byron Public Library District, 100 S Washington St., Byron, IL 61
 010, United States
ROOM: Build Some Bugs Kit
DESCRIPTION:Create bugs using a variety of craft materials. Open ended kit
  for ages 2 years-entering K.
URL:https://www.byronlibrary.org/event/build-some-bugs-kit-2344
END:VEVENT
END:VCALENDAR
